Workbook

Sheet Einstellungen
A1: Anfangsdatum | B1: Freitag, 15. Dezember 2023
A2: Enddatum | B2: Dienstag, 30. April 2024
A3: Land | B3: Suisse
A4: Staat | B4: Zürich
A5: Wochenendtage | B5: Samstag, Sonntag
A6: Erster Tag der Woche | B6: Montag
C7: Uhrzeit (morgen) | E7: Uhrzeit (nachmittag)
A8: Arbeitsstunden | B8: Montag | C8: 08:00 | D8: 12:00 | E8: 14:00 | F8: 18:00
B9: Dienstag | C9: 08:00 | D9: 12:00 | E9: 14:00 | F9: 18:00
B10: Mittwoch | C10: 08:00 | D10: 12:00 | E10: 14:00 | F10: 18:00
B11: Donnerstag | C11: 08:00 | D11: 12:00 | E11: 14:00 | F11: 18:00
B12: Freitag | C12: 08:00 | D12: 12:00 | E12: 14:00 | F12: 18:00
B13: Samstag | C13: 08:00 | D13: 12:00 | E13: 14:00 | F13: 18:00
B14: Sonntag | C14: 08:00 | D14: 12:00 | E14: 14:00 | F14: 18:00

Sheet Tage
A1: Datum (DD/MM/YYYY) | C1: Tag | D1: Arbeitstag | E1: Wochenendtag | F1: Feiertag | G1: Beschreibung | H1: Benutzerdefinierte Daten | K1: Nummerierung (Arbeitstage) | L1: Arbeitsstunden | M1: Uhrzeit (morgen) | O1: Uhrzeit (nachmittag) | S1: Telearbeit / Tage | T1: Telearbeit / Stunden
A2: Freitag | B2: 15/12/2023 | C2: 1 | D2: 1 | E2: 0 | F2: 0 | K2: 1 | L2: =24*(N2-M2+P2-O2) -> 0 | M2: ='Einstellungen'!C12 -> 08:00 | N2: ='Einstellungen'!D12 -> 12:00 | O2: ='Einstellungen'!E12 -> 14:00 | P2: ='Einstellungen'!F12 -> 18:00 | S2: 0 | T2: 0
A3: Samstag | B3: 16/12/2023 | C3: 1 | D3: 0 | E3: 1 | F3: 0 | S3: 0 | T3: 0
A4: Sonntag | B4: 17/12/2023 | C4: 1 | D4: 0 | E4: 1 | F4: 0 | S4: 0 | T4: 0
A5: Montag | B5: 18/12/2023 | C5: 1 | D5: 1 | E5: 0 | F5: 0 | K5: 2 | L5: =24*(N5-M5+P5-O5) -> 0 | M5: ='Einstellungen'!C8 -> 08:00 | N5: ='Einstellungen'!D8 -> 12:00 | O5: ='Einstellungen'!E8 -> 14:00 | P5: ='Einstellungen'!F8 -> 18:00 | S5: 0 | T5: 0
A6: Dienstag | B6: 19/12/2023 | C6: 1 | D6: 1 | E6: 0 | F6: 0 | K6: 3 | L6: =24*(N6-M6+P6-O6) -> 0 | M6: ='Einstellungen'!C9 -> 08:00 | N6: ='Einstellungen'!D9 -> 12:00 | O6: ='Einstellungen'!E9 -> 14:00 | P6: ='Einstellungen'!F9 -> 18:00 | S6: 0 | T6: 0
A7: Mittwoch | B7: 20/12/2023 | C7: 1 | D7: 1 | E7: 0 | F7: 0 | K7: 4 | L7: =24*(N7-M7+P7-O7) -> 0 | M7: ='Einstellungen'!C10 -> 08:00 | N7: ='Einstellungen'!D10 -> 12:00 | O7: ='Einstellungen'!E10 -> 14:00 | P7: ='Einstellungen'!F10 -> 18:00 | S7: 0 | T7: 0
A8: Donnerstag | B8: 21/12/2023 | C8: 1 | D8: 1 | E8: 0 | F8: 0 | K8: 5 | L8: =24*(N8-M8+P8-O8) -> 0 | M8: ='Einstellungen'!C11 -> 08:00 | N8: ='Einstellungen'!D11 -> 12:00 | O8: ='Einstellungen'!E11 -> 14:00 | P8: ='Einstellungen'!F11 -> 18:00 | S8: 0 | T8: 0
A9: Freitag | B9: 22/12/2023 | C9: 1 | D9: 1 | E9: 0 | F9: 0 | K9: 6 | L9: =24*(N9-M9+P9-O9) -> 0 | M9: ='Einstellungen'!C12 -> 08:00 | N9: ='Einstellungen'!D12 -> 12:00 | O9: ='Einstellungen'!E12 -> 14:00 | P9: ='Einstellungen'!F12 -> 18:00 | S9: 0 | T9: 0
A10: Samstag | B10: 23/12/2023 | C10: 1 | D10: 0 | E10: 1 | F10: 0 | S10: 0 | T10: 0
A11: Sonntag | B11: 24/12/2023 | C11: 1 | D11: 0 | E11: 1 | F11: 0 | S11: 0 | T11: 0
A12: Montag | B12: 25/12/2023 | C12: 1 | D12: 0 | E12: 0 | F12: 1 | G12: Weihnachtstag | S12: 0 | T12: 0
A13: Dienstag | B13: 26/12/2023 | C13: 1 | D13: 0 | E13: 0 | F13: 1 | G13: Stephanstag | S13: 0 | T13: 0
A14: Mittwoch | B14: 27/12/2023 | C14: 1 | D14: 1 | E14: 0 | F14: 0 | K14: 7 | L14: =24*(N14-M14+P14-O14) -> 0 | M14: ='Einstellungen'!C10 -> 08:00 | N14: ='Einstellungen'!D10 -> 12:00 | O14: ='Einstellungen'!E10 -> 14:00 | P14: ='Einstellungen'!F10 -> 18:00 | S14: 0 | T14: 0
A15: Donnerstag | B15: 28/12/2023 | C15: 1 | D15: 1 | E15: 0 | F15: 0 | K15: 8 | L15: =24*(N15-M15+P15-O15) -> 0 | M15: ='Einstellungen'!C11 -> 08:00 | N15: ='Einstellungen'!D11 -> 12:00 | O15: ='Einstellungen'!E11 -> 14:00 | P15: ='Einstellungen'!F11 -> 18:00 | S15: 0 | T15: 0
A16: Freitag | B16: 29/12/2023 | C16: 1 | D16: 1 | E16: 0 | F16: 0 | K16: 9 | L16: =24*(N16-M16+P16-O16) -> 0 | M16: ='Einstellungen'!C12 -> 08:00 | N16: ='Einstellungen'!D12 -> 12:00 | O16: ='Einstellungen'!E12 -> 14:00 | P16: ='Einstellungen'!F12 -> 18:00 | S16: 0 | T16: 0
A17: Samstag | B17: 30/12/2023 | C17: 1 | D17: 0 | E17: 1 | F17: 0 | S17: 0 | T17: 0
A18: Sonntag | B18: 31/12/2023 | C18: 1 | D18: 0 | E18: 1 | F18: 0 | S18: 0 | T18: 0
A19: Montag | B19: 01/01/2024 | C19: 1 | D19: 0 | E19: 0 | F19: 1 | G19: Neujahrstag | S19: 0 | T19: 0
A20: Dienstag | B20: 02/01/2024 | C20: 1 | D20: 0 | E20: 0 | F20: 1 | G20: Berchtoldstag | S20: 0 | T20: 0
A21: Mittwoch | B21: 03/01/2024 | C21: 1 | D21: 1 | E21: 0 | F21: 0 | K21: 10 | L21: =24*(N21-M21+P21-O21) -> 0 | M21: ='Einstellungen'!C10 -> 08:00 | N21: ='Einstellungen'!D10 -> 12:00 | O21: ='Einstellungen'!E10 -> 14:00 | P21: ='Einstellungen'!F10 -> 18:00 | S21: 0 | T21: 0
A22: Donnerstag | B22: 04/01/2024 | C22: 1 | D22: 1 | E22: 0 | F22: 0 | K22: 11 | L22: =24*(N22-M22+P22-O22) -> 0 | M22: ='Einstellungen'!C11 -> 08:00 | N22: ='Einstellungen'!D11 -> 12:00 | O22: ='Einstellungen'!E11 -> 14:00 | P22: ='Einstellungen'!F11 -> 18:00 | S22: 0 | T22: 0
A23: Freitag | B23: 05/01/2024 | C23: 1 | D23: 1 | E23: 0 | F23: 0 | K23: 12 | L23: =24*(N23-M23+P23-O23) -> 0 | M23: ='Einstellungen'!C12 -> 08:00 | N23: ='Einstellungen'!D12 -> 12:00 | O23: ='Einstellungen'!E12 -> 14:00 | P23: ='Einstellungen'!F12 -> 18:00 | S23: 0 | T23: 0
A24: Samstag | B24: 06/01/2024 | C24: 1 | D24: 0 | E24: 1 | F24: 0 | S24: 0 | T24: 0
A25: Sonntag | B25: 07/01/2024 | C25: 1 | D25: 0 | E25: 1 | F25: 0 | S25: 0 | T25: 0
A26: Montag | B26: 08/01/2024 | C26: 1 | D26: 1 | E26: 0 | F26: 0 | K26: 13 | L26: =24*(N26-M26+P26-O26) -> 0 | M26: ='Einstellungen'!C8 -> 08:00 | N26: ='Einstellungen'!D8 -> 12:00 | O26: ='Einstellungen'!E8 -> 14:00 | P26: ='Einstellungen'!F8 -> 18:00 | S26: 0 | T26: 0
A27: Dienstag | B27: 09/01/2024 | C27: 1 | D27: 1 | E27: 0 | F27: 0 | K27: 14 | L27: =24*(N27-M27+P27-O27) -> 0 | M27: ='Einstellungen'!C9 -> 08:00 | N27: ='Einstellungen'!D9 -> 12:00 | O27: ='Einstellungen'!E9 -> 14:00 | P27: ='Einstellungen'!F9 -> 18:00 | S27: 0 | T27: 0
A28: Mittwoch | B28: 10/01/2024 | C28: 1 | D28: 1 | E28: 0 | F28: 0 | K28: 15 | L28: =24*(N28-M28+P28-O28) -> 0 | M28: ='Einstellungen'!C10 -> 08:00 | N28: ='Einstellungen'!D10 -> 12:00 | O28: ='Einstellungen'!E10 -> 14:00 | P28: ='Einstellungen'!F10 -> 18:00 | S28: 0 | T28: 0
A29: Donnerstag | B29: 11/01/2024 | C29: 1 | D29: 1 | E29: 0 | F29: 0 | K29: 16 | L29: =24*(N29-M29+P29-O29) -> 0 | M29: ='Einstellungen'!C11 -> 08:00 | N29: ='Einstellungen'!D11 -> 12:00 | O29: ='Einstellungen'!E11 -> 14:00 | P29: ='Einstellungen'!F11 -> 18:00 | S29: 0 | T29: 0
A30: Freitag | B30: 12/01/2024 | C30: 1 | D30: 1 | E30: 0 | F30: 0 | K30: 17 | L30: =24*(N30-M30+P30-O30) -> 0 | M30: ='Einstellungen'!C12 -> 08:00 | N30: ='Einstellungen'!D12 -> 12:00 | O30: ='Einstellungen'!E12 -> 14:00 | P30: ='Einstellungen'!F12 -> 18:00 | S30: 0 | T30: 0
A31: Samstag | B31: 13/01/2024 | C31: 1 | D31: 0 | E31: 1 | F31: 0 | S31: 0 | T31: 0
A32: Sonntag | B32: 14/01/2024 | C32: 1 | D32: 0 | E32: 1 | F32: 0 | S32: 0 | T32: 0
A33: Montag | B33: 15/01/2024 | C33: 1 | D33: 1 | E33: 0 | F33: 0 | K33: 18 | L33: =24*(N33-M33+P33-O33) -> 0 | M33: ='Einstellungen'!C8 -> 08:00 | N33: ='Einstellungen'!D8 -> 12:00 | O33: ='Einstellungen'!E8 -> 14:00 | P33: ='Einstellungen'!F8 -> 18:00 | S33: 0 | T33: 0
A34: Dienstag | B34: 16/01/2024 | C34: 1 | D34: 1 | E34: 0 | F34: 0 | K34: 19 | L34: =24*(N34-M34+P34-O34) -> 0 | M34: ='Einstellungen'!C9 -> 08:00 | N34: ='Einstellungen'!D9 -> 12:00 | O34: ='Einstellungen'!E9 -> 14:00 | P34: ='Einstellungen'!F9 -> 18:00 | S34: 0 | T34: 0
A35: Mittwoch | B35: 17/01/2024 | C35: 1 | D35: 1 | E35: 0 | F35: 0 | K35: 20 | L35: =24*(N35-M35+P35-O35) -> 0 | M35: ='Einstellungen'!C10 -> 08:00 | N35: ='Einstellungen'!D10 -> 12:00 | O35: ='Einstellungen'!E10 -> 14:00 | P35: ='Einstellungen'!F10 -> 18:00 | S35: 0 | T35: 0
A36: Donnerstag | B36: 18/01/2024 | C36: 1 | D36: 1 | E36: 0 | F36: 0 | K36: 21 | L36: =24*(N36-M36+P36-O36) -> 0 | M36: ='Einstellungen'!C11 -> 08:00 | N36: ='Einstellungen'!D11 -> 12:00 | O36: ='Einstellungen'!E11 -> 14:00 | P36: ='Einstellungen'!F11 -> 18:00 | S36: 0 | T36: 0
A37: Freitag | B37: 19/01/2024 | C37: 1 | D37: 1 | E37: 0 | F37: 0 | K37: 22 | L37: =24*(N37-M37+P37-O37) -> 0 | M37: ='Einstellungen'!C12 -> 08:00 | N37: ='Einstellungen'!D12 -> 12:00 | O37: ='Einstellungen'!E12 -> 14:00 | P37: ='Einstellungen'!F12 -> 18:00 | S37: 0 | T37: 0
A38: Samstag | B38: 20/01/2024 | C38: 1 | D38: 0 | E38: 1 | F38: 0 | S38: 0 | T38: 0
A39: Sonntag | B39: 21/01/2024 | C39: 1 | D39: 0 | E39: 1 | F39: 0 | S39: 0 | T39: 0
A40: Montag | B40: 22/01/2024 | C40: 1 | D40: 1 | E40: 0 | F40: 0 | K40: 23 | L40: =24*(N40-M40+P40-O40) -> 0 | M40: ='Einstellungen'!C8 -> 08:00 | N40: ='Einstellungen'!D8 -> 12:00 | O40: ='Einstellungen'!E8 -> 14:00 | P40: ='Einstellungen'!F8 -> 18:00 | S40: 0 | T40: 0
...

Sheet Wochen
A1: Woche | B1: Tage | C1: Arbeitstage | D1: Wochenendtage | E1: Feiertage | F1: Custom dates | G1: Arbeitsstunden
A2: 15/12/2023 → 17/12/2023 | B2: =SUM(Tage!C2:C4) -> 3 | C2: =SUM(Tage!D2:D4) -> 1 | D2: =SUM(Tage!E2:E4) -> 2 | E2: =SUM(Tage!F2:F4) -> 0 | F2: =SUM(Tage!H2:H4) -> 0 | G2: =SUM(Tage!L2:L4) -> 0
A3: 18/12/2023 → 24/12/2023 | B3: =SUM(Tage!C5:C11) -> 7 | C3: =SUM(Tage!D5:D11) -> 5 | D3: =SUM(Tage!E5:E11) -> 2 | E3: =SUM(Tage!F5:F11) -> 0 | F3: =SUM(Tage!H5:H11) -> 0 | G3: =SUM(Tage!L5:L11) -> 0
A4: 25/12/2023 → 31/12/2023 | B4: =SUM(Tage!C12:C18) -> 7 | C4: =SUM(Tage!D12:D18) -> 3 | D4: =SUM(Tage!E12:E18) -> 2 | E4: =SUM(Tage!F12:F18) -> 2 | F4: =SUM(Tage!H12:H18) -> 0 | G4: =SUM(Tage!L12:L18) -> 0
A5: 01/01/2024 → 07/01/2024 | B5: =SUM(Tage!C19:C25) -> 7 | C5: =SUM(Tage!D19:D25) -> 3 | D5: =SUM(Tage!E19:E25) -> 2 | E5: =SUM(Tage!F19:F25) -> 2 | F5: =SUM(Tage!H19:H25) -> 0 | G5: =SUM(Tage!L19:L25) -> 0
A6: 08/01/2024 → 14/01/2024 | B6: =SUM(Tage!C26:C32) -> 7 | C6: =SUM(Tage!D26:D32) -> 5 | D6: =SUM(Tage!E26:E32) -> 2 | E6: =SUM(Tage!F26:F32) -> 0 | F6: =SUM(Tage!H26:H32) -> 0 | G6: =SUM(Tage!L26:L32) -> 0
A7: 15/01/2024 → 21/01/2024 | B7: =SUM(Tage!C33:C39) -> 7 | C7: =SUM(Tage!D33:D39) -> 5 | D7: =SUM(Tage!E33:E39) -> 2 | E7: =SUM(Tage!F33:F39) -> 0 | F7: =SUM(Tage!H33:H39) -> 0 | G7: =SUM(Tage!L33:L39) -> 0
A8: 22/01/2024 → 28/01/2024 | B8: =SUM(Tage!C40:C46) -> 7 | C8: =SUM(Tage!D40:D46) -> 5 | D8: =SUM(Tage!E40:E46) -> 2 | E8: =SUM(Tage!F40:F46) -> 0 | F8: =SUM(Tage!H40:H46) -> 0 | G8: =SUM(Tage!L40:L46) -> 0
A9: 29/01/2024 → 04/02/2024 | B9: =SUM(Tage!C47:C53) -> 7 | C9: =SUM(Tage!D47:D53) -> 5 | D9: =SUM(Tage!E47:E53) -> 2 | E9: =SUM(Tage!F47:F53) -> 0 | F9: =SUM(Tage!H47:H53) -> 0 | G9: =SUM(Tage!L47:L53) -> 0
A10: 05/02/2024 → 11/02/2024 | B10: =SUM(Tage!C54:C60) -> 7 | C10: =SUM(Tage!D54:D60) -> 5 | D10: =SUM(Tage!E54:E60) -> 2 | E10: =SUM(Tage!F54:F60) -> 0 | F10: =SUM(Tage!H54:H60) -> 0 | G10: =SUM(Tage!L54:L60) -> 0
A11: 12/02/2024 → 18/02/2024 | B11: =SUM(Tage!C61:C67) -> 7 | C11: =SUM(Tage!D61:D67) -> 5 | D11: =SUM(Tage!E61:E67) -> 2 | E11: =SUM(Tage!F61:F67) -> 0 | F11: =SUM(Tage!H61:H67) -> 0 | G11: =SUM(Tage!L61:L67) -> 0
A12: 19/02/2024 → 25/02/2024 | B12: =SUM(Tage!C68:C74) -> 7 | C12: =SUM(Tage!D68:D74) -> 5 | D12: =SUM(Tage!E68:E74) -> 2 | E12: =SUM(Tage!F68:F74) -> 0 | F12: =SUM(Tage!H68:H74) -> 0 | G12: =SUM(Tage!L68:L74) -> 0
A13: 26/02/2024 → 03/03/2024 | B13: =SUM(Tage!C75:C81) -> 7 | C13: =SUM(Tage!D75:D81) -> 5 | D13: =SUM(Tage!E75:E81) -> 2 | E13: =SUM(Tage!F75:F81) -> 0 | F13: =SUM(Tage!H75:H81) -> 0 | G13: =SUM(Tage!L75:L81) -> 0
A14: 04/03/2024 → 10/03/2024 | B14: =SUM(Tage!C82:C88) -> 7 | C14: =SUM(Tage!D82:D88) -> 5 | D14: =SUM(Tage!E82:E88) -> 2 | E14: =SUM(Tage!F82:F88) -> 0 | F14: =SUM(Tage!H82:H88) -> 0 | G14: =SUM(Tage!L82:L88) -> 0
A15: 11/03/2024 → 17/03/2024 | B15: =SUM(Tage!C89:C95) -> 7 | C15: =SUM(Tage!D89:D95) -> 5 | D15: =SUM(Tage!E89:E95) -> 2 | E15: =SUM(Tage!F89:F95) -> 0 | F15: =SUM(Tage!H89:H95) -> 0 | G15: =SUM(Tage!L89:L95) -> 0
A16: 18/03/2024 → 24/03/2024 | B16: =SUM(Tage!C96:C102) -> 7 | C16: =SUM(Tage!D96:D102) -> 5 | D16: =SUM(Tage!E96:E102) -> 2 | E16: =SUM(Tage!F96:F102) -> 0 | F16: =SUM(Tage!H96:H102) -> 0 | G16: =SUM(Tage!L96:L102) -> 0
A17: 25/03/2024 → 31/03/2024 | B17: =SUM(Tage!C103:C109) -> 7 | C17: =SUM(Tage!D103:D109) -> 4 | D17: =SUM(Tage!E103:E109) -> 2 | E17: =SUM(Tage!F103:F109) -> 1 | F17: =SUM(Tage!H103:H109) -> 0 | G17: =SUM(Tage!L103:L109) -> 0
A18: 01/04/2024 → 07/04/2024 | B18: =SUM(Tage!C110:C116) -> 7 | C18: =SUM(Tage!D110:D116) -> 4 | D18: =SUM(Tage!E110:E116) -> 2 | E18: =SUM(Tage!F110:F116) -> 1 | F18: =SUM(Tage!H110:H116) -> 0 | G18: =SUM(Tage!L110:L116) -> 0
A19: 08/04/2024 → 14/04/2024 | B19: =SUM(Tage!C117:C123) -> 7 | C19: =SUM(Tage!D117:D123) -> 5 | D19: =SUM(Tage!E117:E123) -> 2 | E19: =SUM(Tage!F117:F123) -> 0 | F19: =SUM(Tage!H117:H123) -> 0 | G19: =SUM(Tage!L117:L123) -> 0
A20: 15/04/2024 → 21/04/2024 | B20: =SUM(Tage!C124:C130) -> 7 | C20: =SUM(Tage!D124:D130) -> 5 | D20: =SUM(Tage!E124:E130) -> 2 | E20: =SUM(Tage!F124:F130) -> 0 | F20: =SUM(Tage!H124:H130) -> 0 | G20: =SUM(Tage!L124:L130) -> 0
A21: 22/04/2024 → 28/04/2024 | B21: =SUM(Tage!C131:C137) -> 7 | C21: =SUM(Tage!D131:D137) -> 5 | D21: =SUM(Tage!E131:E137) -> 2 | E21: =SUM(Tage!F131:F137) -> 0 | F21: =SUM(Tage!H131:H137) -> 0 | G21: =SUM(Tage!L131:L137) -> 0
A22: 29/04/2024 → 30/04/2024 | B22: =SUM(Tage!C138:C139) -> 2 | C22: =SUM(Tage!D138:D139) -> 2 | D22: =SUM(Tage!E138:E139) -> 0 | E22: =SUM(Tage!F138:F139) -> 0 | F22: =SUM(Tage!H138:H139) -> 0 | G22: =SUM(Tage!L138:L139) -> 0
A23: Gesamt | B23: =SUM(B2:B22) -> 138 | C23: =SUM(C2:C22) -> 92 | D23: =SUM(D2:D22) -> 40 | E23: =SUM(E2:E22) -> 6 | F23: =SUM(F2:F22) -> 0 | G23: =SUM(G2:G22) -> 0

Sheet Monate
A1: Monat | B1: Tage | C1: Arbeitstage | D1: Wochenendtage | E1: Feiertage | F1: Custom dates | G1: Arbeitsstunden
A2: Dezember 2023 | B2: =SUM(Tage!C2:C18) -> 17 | C2: =SUM(Tage!D2:D18) -> 9 | D2: =SUM(Tage!E2:E18) -> 6 | E2: =SUM(Tage!F2:F18) -> 2 | F2: =SUM(Tage!H2:H18) -> 0 | G2: =SUM(Tage!L2:L18) -> 0
A3: Januar 2024 | B3: =SUM(Tage!C19:C49) -> 31 | C3: =SUM(Tage!D19:D49) -> 21 | D3: =SUM(Tage!E19:E49) -> 8 | E3: =SUM(Tage!F19:F49) -> 2 | F3: =SUM(Tage!H19:H49) -> 0 | G3: =SUM(Tage!L19:L49) -> 0
A4: Februar 2024 | B4: =SUM(Tage!C50:C78) -> 29 | C4: =SUM(Tage!D50:D78) -> 21 | D4: =SUM(Tage!E50:E78) -> 8 | E4: =SUM(Tage!F50:F78) -> 0 | F4: =SUM(Tage!H50:H78) -> 0 | G4: =SUM(Tage!L50:L78) -> 0
A5: März 2024 | B5: =SUM(Tage!C79:C109) -> 31 | C5: =SUM(Tage!D79:D109) -> 20 | D5: =SUM(Tage!E79:E109) -> 10 | E5: =SUM(Tage!F79:F109) -> 1 | F5: =SUM(Tage!H79:H109) -> 0 | G5: =SUM(Tage!L79:L109) -> 0
A6: April 2024 | B6: =SUM(Tage!C110:C139) -> 30 | C6: =SUM(Tage!D110:D139) -> 21 | D6: =SUM(Tage!E110:E139) -> 8 | E6: =SUM(Tage!F110:F139) -> 1 | F6: =SUM(Tage!H110:H139) -> 0 | G6: =SUM(Tage!L110:L139) -> 0
A7: Gesamt | B7: =SUM(B2:B6) -> 138 | C7: =SUM(C2:C6) -> 92 | D7: =SUM(D2:D6) -> 40 | E7: =SUM(E2:E6) -> 6 | F7: =SUM(F2:F6) -> 0 | G7: =SUM(G2:G6) -> 0

Sheet Jahre
A1: Jahr | B1: Tage | C1: Arbeitstage | D1: Wochenendtage | E1: Feiertage | F1: Custom dates | G1: Arbeitsstunden
A2: 2023 | B2: =SUM(Tage!C2:C18) -> 17 | C2: =SUM(Tage!D2:D18) -> 9 | D2: =SUM(Tage!E2:E18) -> 6 | E2: =SUM(Tage!F2:F18) -> 2 | F2: =SUM(Tage!H2:H18) -> 0 | G2: =SUM(Tage!L2:L18) -> 0
A3: 2024 | B3: =SUM(Tage!C19:C139) -> 121 | C3: =SUM(Tage!D19:D139) -> 83 | D3: =SUM(Tage!E19:E139) -> 34 | E3: =SUM(Tage!F19:F139) -> 4 | F3: =SUM(Tage!H19:H139) -> 0 | G3: =SUM(Tage!L19:L139) -> 0
A4: Gesamt | B4: =SUM(B2:B3) -> 138 | C4: =SUM(C2:C3) -> 92 | D4: =SUM(D2:D3) -> 40 | E4: =SUM(E2:E3) -> 6 | F4: =SUM(F2:F3) -> 0 | G4: =SUM(G2:G3) -> 0
